BEGIN:VCALENDAR
PRODID:-//Microsoft Corporation//Outlook MIMEDIR//EN
VERSION:1.0
BEGIN:VEVENT
DTSTART:20171106T000000Z
DTEND:20171106T000000Z
LOCATION:Boole 3
DESCRIPTION:Political forum on Ireland's response to  Climate Change.  Confirmed panelists  include Michael Martin and Eamonn Ryan.   Aine Ryall, School of Law will act as  academic rapporteur to close the forum.
SUMMARY:Cork Climate Action Political Forum
END:VEVENT
END:VCALENDAR